BEGIN:VCALENDAR
VERSION:2.0
PRODID:-//eventon.com NONSGML v1.0//EN
CALSCALE:GREGORIAN
METHOD:PUBLISH
BEGIN:VEVENT
UID:69e7632af15dd
DTSTAMP:20260421T114442Z
DTSTART:20260602T084500Z
DTEND:20260602T094500Z
LOCATION:Mio Murau
SUMMARY:SpielRaum nach Emmi Pikler  (6- 15 Monate)
DESCRIPTION:Der Spielraum- welcher an die Forschung von Dr. Emmi Pikler ang
 elehnt ist- bietet eine liebevolle\,  vorbereitete Umgebung\,  die auf den 
 Entwicklungsstand der Kinder abgestimmt ist. Die Kinder finden Materialien 
 zum selbständigen Spiel\,  sowie Bewegungsmaterialien vor\,  die sie zum B
 ewegen\,  Spielen und Entdecken einladet. Ohne angeleitet oder gedrängt zu
  werden und[..]\nhttps://www.mio-murau.at/angebot/spielraum-pikler-6-15-mon
 ate-2/
URL:https://www.mio-murau.at/angebot/spielraum-pikler-6-15-monate-2/
END:VEVENT
END:VCALENDAR