BEGIN:VCALENDAR
VERSION:2.0
PRODID:-//eventon.com NONSGML v1.0//EN
CALSCALE:GREGORIAN
METHOD:PUBLISH
BEGIN:VEVENT
UID:69e762d7b3767
DTSTAMP:20260421T114319Z
DTSTART:20260512T071500Z
DTEND:20260512T081500Z
LOCATION:Mio Murau
SUMMARY:SpielRaum nach E. Pikler SCHNUPPEREINHEIT
DESCRIPTION:„Der Spielraum\,  welcher an die Forschung von Dr. Emmi Pikle
 r angelehnt ist\,  bietet eine liebevolle\,  vorbereitete Umgebung\,  die a
 uf den Entwicklungsstand der Kinder abgestimmt ist. Die Basis von allem Han
 deln ist eine respektvolle\,  achtsame Haltung gegenüber dem Kind. Im Zent
 rum steht das Vertrauen\,  in die sich eigenständig selbstentfaltenden Ent
 wicklungsschritte auf[..]\nhttps://www.mio-murau.at/angebot/spielraum-pikle
 r-schnuppereinheit/
URL:https://www.mio-murau.at/angebot/spielraum-pikler-schnuppereinheit/
END:VEVENT
END:VCALENDAR