BEGIN:VCALENDAR
VERSION:2.0
PRODID:-//eventon.com NONSGML v1.0//EN
CALSCALE:GREGORIAN
METHOD:PUBLISH
BEGIN:VEVENT
UID:69e7625f293a4
DTSTAMP:20260421T114119Z
DTSTART:20260519T071500Z
DTEND:20260519T081500Z
LOCATION:Mio Murau
SUMMARY:SpielRaum nach E. Pikler SCHNUPPEREINHEIT
DESCRIPTION:„Der Spielraum\,  welcher an die Forschung von Dr. Emmi Pikle
 r angelehnt ist\,  bietet eine liebevolle\,  vorbereitete Umgebung\,  die a
 uf den Entwicklungsstand der Kinder abgestimmt ist. Die Basis von allem Han
 deln ist eine respektvolle\,  achtsame Haltung gegenüber dem Kind. Im Zent
 rum steht das Vertrauen\,  in die sich eigenständig selbstentfaltenden Ent
 wicklungsschritte auf[..]\nhttps://www.mio-murau.at/angebot/spielraum-pikle
 r-schnuppereinheit-2/
URL:https://www.mio-murau.at/angebot/spielraum-pikler-schnuppereinheit-2/
END:VEVENT
END:VCALENDAR