BEGIN:VCALENDAR
VERSION:2.0
PRODID:-//eventon.com NONSGML v1.0//EN
CALSCALE:GREGORIAN
METHOD:PUBLISH
BEGIN:VEVENT
UID:69e760c4f1659
DTSTAMP:20260421T113428Z
DTSTART:20260602T071500Z
DTEND:20260602T081500Z
LOCATION:Mio Murau
SUMMARY:SpielRaum nach Emmi Pikler  15-30 Monate
DESCRIPTION:Der Spielraum- welcher an die Forschung von Dr. Emmi Pikler ang
 elehnt ist- bietet eine liebevolle\,  vorbereitete Umgebung\,  die auf den 
 Entwicklungsstand der Kinder abgestimmt ist. Die Kinder finden Materialien 
 zum selbständigen Spiel\,  sowie Bewegungsmaterialien vor\,  die sie zum B
 ewegen\,  Spielen und Entdecken einladet. Ohne angeleitet oder gedrängt zu
  werden und[..]\nhttps://www.mio-murau.at/angebot/spielraumpikler-15-30-mon
 ate/
URL:https://www.mio-murau.at/angebot/spielraumpikler-15-30-monate/
END:VEVENT
END:VCALENDAR