BEGIN:VCALENDAR
VERSION:2.0
PRODID:-//eventon.com NONSGML v1.0//EN
CALSCALE:GREGORIAN
METHOD:PUBLISH
BEGIN:VEVENT
UID:69e9f0183d794
DTSTAMP:20260423T101032Z
DTSTART:20260616T140000Z
DTEND:20260616T150000Z
LOCATION:Mio Murau
SUMMARY:Kinderyoga
DESCRIPTION:In meinem Yogakurs für Kinder von 5–10 Jahren erleben die Ki
 nder\,  dass Yoga viel mehr ist als Bewegung: 🌈 Fantasie ausleben und in
  andere Welten eintauchen 💪 Selbstvertrauen stärken und innere Kraft sp
 üren 🧘‍♀️ Übungen\,  die Körper und Seele guttun 🌟 Raum für
  Stille\,  Achtsamkeit und Gelassenheit Kinderyoga macht stark\, [..]\nhttp
 s://www.mio-murau.at/angebot/kinderyoga-2/
URL:https://www.mio-murau.at/angebot/kinderyoga-2/
END:VEVENT
END:VCALENDAR